BEGIN:VCALENDAR
VERSION:2.0
PRODID:-//Grandair - ECPv6.15.20//NONSGML v1.0//EN
CALSCALE:GREGORIAN
METHOD:PUBLISH
X-WR-CALNAME:Grandair
X-ORIGINAL-URL:https://grandair.re
X-WR-CALDESC:Évènements pour Grandair
REFRESH-INTERVAL;VALUE=DURATION:PT1H
X-Robots-Tag:noindex
X-PUBLISHED-TTL:PT1H
BEGIN:VTIMEZONE
TZID:Indian/Reunion
BEGIN:STANDARD
TZOFFSETFROM:+0400
TZOFFSETTO:+0400
TZNAME:+04
DTSTART:20220101T000000
END:STANDARD
END:VTIMEZONE
BEGIN:VEVENT
DTSTART;TZID=Indian/Reunion:20231027T180000
DTEND;TZID=Indian/Reunion:20231027T210000
DTSTAMP:20260420T121120
CREATED:20231018T031950Z
LAST-MODIFIED:20231102T105449Z
UID:390311-1698429600-1698440400@grandair.re
SUMMARY:CONSEIL D'ADMINISTRATION
DESCRIPTION:\n					\n						QUOI : OBJECTIFS\n						Une fois par mois les parlement’air se rencontrent pour penser\, décider\, préparer\, gérer\, organiser … la vie au Grand Air.\nC’est la réunion du conseil d’administration. Il peut avoir lieu en présentiel ou en distanciel et souvent nous faisons les deux pour permettre au plus grand nombre de participer.\n					\n				\n			\n			\n				\n				\n				\n				\n			\n				\n				\n				\n				\n				\n				\n				\n				\n				\n				\n				\n					\n					\n						QUAND : LE JOUR\, L’HEURE\n						VENDREDI 27 OCTOBRE 2023\nDE 18H A 21 H AU PLUS TARD\n					\n				\n			\n			\n				\n				\n				\n				\n			\n				\n				\n				\n				\n				\n				\n				\n				\n				\n				\n				\n					\n					\n						OÙ : LE LIEU\n						Ce conseil aura lieu en présentiel et en distanciel.\nLa réunion en présentiel aura lieu dans la salle de réunion de l’Espace de Vie Etudiante (EVE = bâtiment sous le gabier Bred\, en face de la résidence internationale). Comme la salle est petite nous invitons surtout les administrat-rices-eurs et celles et ceux qui veulent le devenir à nous rejoindre en présentiel. Tous les autres peuvent participer en visio :\nParticiper à la réunion Zoom\nhttps://univ-reunion-fr.zoom.us/j/6642576180\nID de réunion : 664 257 6180\n					\n				\n			\n			\n				\n				\n				\n				\n			\n				\n				\n				\n				\n				\n				\n				\n				\n				\n				\n				\n					\n					\n						COMMENT : CE QU’IL FAUT SAVOIR FAIRE POUR PARTICIPER\n						Prendre connaissance de l’ordre du jour\, du compte rendu de la dernière séance du conseil et des documents associés… \n					\n				\n			\n			\n				\n				\n				\n				\n			\n				\n				\n				\n				\n				\n				\n				\n				\n				\n				\n				\n					\n					\n						AVEC QUOI : CE QU’IL NE FAUT PAS OUBLIER\n						Des arguments solides et liquides à partager pour celles et ceux qui participeront en présentiel.\nL’association se charge des pizzas et les adhérents des boissons (n’oublier pas les gobelets).\nDes idées à fabriquer et les moyens de les réaliser.\n					\n				\n			\n			\n				\n				\n				\n				\n			\n				\n				\n				\n				\n				\n				\n				\n				\n				\n				\n				\n					\n					\n						COMBIEN : LA PARTICIPATION DEMANDEE\n						Tout cela coûte du temps\, de l’énergie et du travail aux administrateurs\, alors l’association valorise cette implication. Etre membre du conseil d’administration de l’association\, ça ne coute pas de BA et ça permet même d’en gagner une pour contribuer autrement au développement de l’association et de ses projets.  Ce qu’on fait au Grand Air ne compte pas pour du vent !\n					\n				\n			\n			\n				\n				\n				\n				\n			\n				\n				\n				\n				\n				\n				\n				\n				\n				\n				\n				\n					\n					\n						QUI : LE RESPONSABLE DE L’ACTIVITE\n						Nous décidons ensemble\, nous sommes donc toutes et tous responsables\, mais si vous avez des questions particulières\, vous pouvez nous les adresser : grandair974@gmail.com \n					\n				\n			\n			\n				\n				\n				\n				\n			\n				\n				\n			\n				\n				\n				\n				\n				\n				\n				\n				\n				\n				\n				\n				\n				\n				\n				\n				\n				\n				\n                    \n                    \n                    \n                 \n			\n			\n				\n				\n				\n				\n			\n				\n				\n			\n				\n				\n				\n				\n				\n				\n				\n				\n				\n				\n				\n				\n				\n				\n				\n				\n				\n				Vous devez être connecté pour réserver
URL:https://grandair.re/activite/conseil-dadministration-2/
LOCATION:Université de la Réunion\, 15 avenue René Cassin\, Saint-Denis\, 97400\, Réunion
CATEGORIES:Ça s’Air,Parlement’Air
ATTACH;FMTTYPE=image/jpeg:https://grandair.re/wp-content/uploads/2023/09/CA_01-Personnalise.jpg
END:VEVENT
END:VCALENDAR