BEGIN:VCALENDAR
VERSION:2.0
PRODID:-//Grandair - ECPv6.15.20//NONSGML v1.0//EN
CALSCALE:GREGORIAN
METHOD:PUBLISH
X-WR-CALNAME:Grandair
X-ORIGINAL-URL:https://grandair.re
X-WR-CALDESC:Évènements pour Grandair
REFRESH-INTERVAL;VALUE=DURATION:PT1H
X-Robots-Tag:noindex
X-PUBLISHED-TTL:PT1H
BEGIN:VTIMEZONE
TZID:Indian/Reunion
BEGIN:STANDARD
TZOFFSETFROM:+0400
TZOFFSETTO:+0400
TZNAME:+04
DTSTART:20240101T000000
END:STANDARD
END:VTIMEZONE
BEGIN:VEVENT
DTSTART;TZID=Indian/Reunion:20250220T173000
DTEND;TZID=Indian/Reunion:20250220T223000
DTSTAMP:20260421T033100
CREATED:20250216T191905Z
LAST-MODIFIED:20250216T192233Z
UID:399356-1740072600-1740090600@grandair.re
SUMMARY:PLONGEE DE NUIT\, PLONGEUR AUTONOME JEU 20/02 A 17H30
DESCRIPTION:\n					\n						QUOI : OBJECTIFS\n						Et si nous allions voir comment dorment les poissons ???Cette plongée accessible à partir du Plongeur Autonome à 20m (PA-20) vous permettra de redécouvrir un environnement que vous ne connaissez pas sous ce jour particulier (c’est-à-dire de nuit !). Une activité à réserver aux « noctam’ Bulles » titulaire du PA-20.ATTENTION CE FORMULAIRE DE RESERVATION CONCERNE UNIQUEMENT LES PLONGEURS AUTONOMES (PA) AYANT DEJA PLONGÉ DE NUIT\, un autre évènement est programmé pour les plongeurs encadrés et les plongeurs autonomes sans expérience en plongée de nuit : Réservation Plongeur EncadréVous devez renseigner le formulaire de réservation qui vous concerne\, sans vous tromper\, au risque de ne pas pouvoir plonger. \n					\n				\n			\n			\n				\n				\n				\n				\n			\n				\n				\n				\n				\n				\n				\n				\n				\n				\n				\n				\n					\n					\n						QUAND : LE JOUR\, L’HEURE\n						JEUDI  20 F2VRIER 2025RdV à 17h30 à la BNMFin prévisionnelle vers 22h30. \nLES PLONGEES DE NUIT SONT NORMALEMENT ORGANISEES LE PREMIER ET LE TROISIEME JEUDI DE CHAQUE MOIS (selon conditions météo.)Si le co-voiturage n’est pas possible à partir de l’université\, rdv directement à la BNM\, vous pouvez vous y rendre en bus. Pensez aussi à Karos\, l’application de co-voiturageUn co-voiturage sera possible au retour vers St Denis. \n					\n				\n			\n			\n				\n				\n				\n				\n			\n				\n				\n				\n				\n				\n				\n				\n				\n				\n				\n				\n					\n					\n						OÙ : LE LIEU\n						Nous plongeons à partir de la Base Nautique des Mascareignes\, au Port\, c’est ici :BNM \n					\n				\n			\n			\n				\n				\n				\n				\n			\n				\n				\n				\n				\n				\n				\n				\n				\n				\n				\n				\n					\n					\n						COMMENT : CE QU’IL FAUT SAVOIR FAIRE POUR PARTICIPER\n						Plongeur Autonome PA-20 minimum (vous devez avoir déjà plongé avec l’association ou l’un de ses moniteurs pour attester de votre capacité à effectuer une plongée de nuit en autonomie). Adhérent à l’association « Grand Air »\, certificat médical à jour. Si vous n’avez jamais effectué de plongée de nuit en autonomie\, vous devez réaliser une première plongée encadrée avec l’association et remplir l’autre formulaire de réservation. \n					\n				\n			\n			\n				\n				\n				\n				\n			\n				\n				\n				\n				\n				\n				\n				\n				\n				\n				\n				\n					\n					\n						AVEC QUOI : CE QU’IL NE FAUT PAS OUBLIER\n						Un maillot de bain et une serviette\, … tout le reste (y compris la lampe de plongée) vous sera prêté par l’association. Si vous avez vos palmes\, votre masque et votre tuba\, vous pouvez apporter ce matériel. Et n’oubliez pas votre part de l’apéro partage (salé ou sucré et boisson pour la collation partage d’après plongée). \n					\n				\n			\n			\n				\n				\n				\n				\n			\n				\n				\n				\n				\n				\n				\n				\n				\n				\n				\n				\n					\n					\n						COMBIEN : LA PARTICIPATION DEMANDEE\n						Participation : 5 bouffées d’air\, soit 25 €\, prélevées directement sur votre forfait d’activitéLe nombre de places est limité à 4 plongeurs autonomes (PA-20 min.).Votre réservation ne garantit pas votre participation à une activité. Elle doit être préalablement validée par un administrateur. Vous êtes invité à consulter la page concernée qui liste les inscriptions valides et vous permet\, le cas échéant d’organiser le co-voiturage : Organisation véhicul’AirImportant : Si votre nom ne figure pas dans cette liste\, c’est que votre demande de réservation n’a pas encore abouti. \n					\n				\n			\n			\n				\n				\n				\n				\n			\n				\n				\n				\n				\n				\n				\n				\n				\n				\n				\n				\n					\n					\n						QUI : LE RESPONSABLE DE L’ACTIVITE\n						Renseignements : contacter le « gestionn’air » de l’activité « Bulles d’Air» (Plongée) :Michel ARBOIREAU\, 06 92 07 79 98michel.arboireau@univ-reunion.fr \n					\n				\n			\n			\n				\n				\n				\n				\n			\n			\n				\n				\n				\n				\n				\n				\n				\n				\n				\n				PLONGEE DE NUITQUELQUES INDICATIONS\n			\n				\n				\n				\n				\n				Vous aller plonger de nuit\, pour :– Profiter d’une ambiance particulière\, avant (navigation au crépuscule)\, pendant (nager dans l’obscurité) et après la plongée (navigation nocturne et retour à la vie normale en début de nuit ;o)).– Redécouvrir un site que l’on connaît de jour\, mais qui se transforme la nuit : plonger ailleurs en allant au même endroit.– Découvrir une vie sous-marine spécifique : observer des espèces que l’on ne croise pas ou peu de jours (langouste\, danseuse espagnole\, porcelaine\, cigale de mer\, murènes hors de leur trou …) ou les voir et les approcher dans d’autres conditions (plus près\, mais sans les gêner et sans les mettre en danger). \nOù allez-vous plonger :Nous privilégions deux sites spécifiques pour les plongées de nuit : le Cap La Houssaye (ST Paul) et 3 Bacs (Le Port).Chaque site est particulier et propose une vie sous-marine spécifique.Exceptionnellement\, pour les plongeurs experts (Niveau 3 / PA-60 minimum) et quand les conditions le permettent\, il nous arrive d’organiser une plongée sur l’épave du Sea Venture dans la baie de Saint Paul. \nDans tous les cas\, la plongée ne peut avoir lieu que si nous estimons que toutes les conditions de sécurité sont réunies. En cas de doute\, nous annulons la plongée et vous devrez réserver une autre date dans ce cas\, car nous ne reportons pas les plongées de nuit. Elles ont lieu le premier et le 3e jeudi de chaque mois. \nQu’allez-vous voir :Les poissons ne dorment pas\, on ne parle pas de sommeil pour les poissons\, mais de « dormance »\, car ils doivent continuer à respirer et un endormissement provoquerait la noyade.Beaucoup d’espèces vont devenir visibles de nuit\, à condition de ne pas les éclairer outrageusement\, ce qui les fera fuir\, se recroqueviller ou se cacher\, irrémédiablement. N’oublions pas que déranger de façon répétitive des espèces nocturnes pendant leurs activités pour s’alimenter\, représentera pour eux une carence en énergie et donc moins de chances de survie. Même discrètement utilisée\, notre lampe fera ressortir les yeux de crustacés\, qui sont sortis de leurs failles et crevasses pour partir chasser et ça ne va pas les aider.Le sable va regorger de vie\, car les mollusques\, échinodermes\, vers… enfouis dans la journée vont sortir à la surface du substrat et y laisser de nombreuses traces. Éclairer le sable pour mieux découvrir ces traces permet d’admirer les scènes de chasse et certaines espèces.Les coraux durs ne sortent leurs tentacules pour chasser que pendant la nuit. De jour\, on ne les voit que fermés ; c’est déjà joli\, mais cela n’a rien à voir avec le merveilleux spectacle qu’ils nous offrent de nuit. Leurs tentacules laissent apparaitre des petits points blancs qui sont des amas de cellules urticantes. Ces cellules vont capturer le plancton plus abondant de nuit et nous éviterons bien sûr de les toucher !Sans lumière\, c’est le plancton qui s’illumine lorsqu’on agite l’eau (et que par cavitation on crée l’oxydation de la luciférine\, cette protéine contenue dans le plancton).Certaines lampes (lampe UV) peuvent émettre de la « lumière bleue » capable de faire ressortir la fluorescence des coraux et de certains organismes. La plongée fluorescente ou « Fluo Diving » révèle les incroyables couleurs lumineuses du récif. C’est un type de plongée de nuit que nous pratiquons parfois. \nQue faut-il savoir :Votre directeur de plongée et votre encadrant\, le cas échéant\, vous diront tout ce qu’il faut savoir pour plonger de nuit\, comme :– le fonctionnement des lampes et la façon de les utiliser– le code de communication adaptée à la plongée de nuit– le principe de la vision nocturne et les adaptations à mettre en œuvre– les dispositions particulières à ce type de plongée \nPendant cette plongée\, vous devrez être :-parfaitement stabilisé-proche de vos partenaires-calme et lent-heureux et contemplatif ;o) \nBonne nuit les “noctambulles”
URL:https://grandair.re/activite/plongee-de-nuit-plongeur-autonome-jeu-20-02-a-17h30/
LOCATION:BNM\, 13 Rue Amiral Bosse\, Le Port\, 97420\, Réunion
CATEGORIES:M'Air,Plongée
ATTACH;FMTTYPE=image/jpeg:https://grandair.re/wp-content/uploads/2023/11/Plongee-Nuit_510-383.jpg
END:VEVENT
END:VCALENDAR